BEGIN:VCALENDAR
VERSION:2.0
PRODID:-//Piedras Vivas - ECPv6.2.8.1//NONSGML v1.0//EN
CALSCALE:GREGORIAN
METHOD:PUBLISH
X-WR-CALNAME:Piedras Vivas
X-ORIGINAL-URL:https://www.piedrasvivasrc.com
X-WR-CALDESC:Eventos para Piedras Vivas
REFRESH-INTERVAL;VALUE=DURATION:PT1H
X-Robots-Tag:noindex
X-PUBLISHED-TTL:PT1H
BEGIN:VTIMEZONE
TZID:America/Chicago
BEGIN:DAYLIGHT
TZOFFSETFROM:-0600
TZOFFSETTO:-0500
TZNAME:CDT
DTSTART:20260308T080000
END:DAYLIGHT
BEGIN:STANDARD
TZOFFSETFROM:-0500
TZOFFSETTO:-0600
TZNAME:CST
DTSTART:20261101T070000
END:STANDARD
BEGIN:DAYLIGHT
TZOFFSETFROM:-0600
TZOFFSETTO:-0500
TZNAME:CDT
DTSTART:20270314T080000
END:DAYLIGHT
BEGIN:STANDARD
TZOFFSETFROM:-0500
TZOFFSETTO:-0600
TZNAME:CST
DTSTART:20271107T070000
END:STANDARD
END:VTIMEZONE
BEGIN:VEVENT
DTSTART;TZID=America/Chicago:20260228T100000
DTEND;TZID=America/Chicago:20270227T120000
DTSTAMP:20260424T085849
CREATED:20260217T232121Z
LAST-MODIFIED:20260217T232850Z
UID:11309-1772272800-1803729600@www.piedrasvivasrc.com
SUMMARY:Lázaro Mérida III - “Visitar al preso”
DESCRIPTION:Mérida\, Visitar al preso. Un sábado de cada mes. (Primero se quiere confirmar interesados y después se definirá fecha de inicio)  \nMixto \nEste apostolado nace del deseo de vivir la obra de misericordia de visitar al preso\, acompañando a personas privadas de su libertad con cercanía\, escucha y fe. Queremos ser presencia de esperanza\, recordando que la dignidad humana permanece intacta y que el amor de Dios alcanza todos los lugares y todas las historias. \nNos encontraremos un sábado al mes de 10:00 a.m. a 12:00 p.m. para compartir juntos un espacio de encuentro y vida comunitaria. Durante la primera hora tendremos un momento de convivencia —juegos de mesa\, plática y alimentos sencillos— buscando generar un ambiente de confianza\, alegría y fraternidad. En la segunda hora participaremos juntos en la Eucaristía\, poniendo en manos de Dios nuestras vidas y reconociendo su presencia en medio de nosotros. \nEste apostolado es una invitación a salir al encuentro\, a mirar con misericordia y a descubrir que Cristo nos espera también detrás de los muros. \nAcomáñanos! Regístrate en este formulario para confirmar interesados. (Compromiso de asistencia por un año) \nPor favor\, activa JavaScript en tu navegador para completar este formulario.Por favor\, activa JavaScript en tu navegador para completar este formulario.Nombre *Apellido *Correo electrónico *Cuenta de Instagram *WhatsApp *Sexo *MasculinoFemeninoEdad *Ciudad *Talla Camisa *SMLXLEnviar
URL:https://www.piedrasvivasrc.com/event/lazaro-merida-iii-visitar-al-preso/
LOCATION:Cereso Mérida
ATTACH;FMTTYPE=image/png:https://www.piedrasvivasrc.com/wp-content/uploads/2026/02/Exodo-5.png
END:VEVENT
BEGIN:VEVENT
DTSTART;TZID=America/Chicago:20261210T180000
DTEND;TZID=America/Chicago:20261214T113000
DTSTAMP:20260424T085849
CREATED:20250827T173145Z
LAST-MODIFIED:20260113T205338Z
UID:10797-1796925600-1797247800@www.piedrasvivasrc.com
SUMMARY:ÉXODO III “Te llevaré al desierto” - Oaxaca
DESCRIPTION:Oaxaca 10 al 14 de diciembre 2026\nMixto\nExperiencia en salida\, al estilo Piedras Vivas\, con un poco de todo. \nNecesario haber vivido cualquiera de los retiros Génesis o The Way. \nIncluye: Hospedaje en Oaxaca\, comidas\, transporte dentro de Oaxaca\, casa de campaña compartida\, eventos propios. \nBuscamos que sea posible para ti estar en esta gran experiencia con nosotros\, por lo que hemos preparado un plan con precio especial con facilidad de pagos\, quedando con esta estructura: \nPago 1\, antes del 30/06/2024: $3\,500.\nPago 2\, antes del 31/07/2024: $3\,500.\nPago 3\, antes del 31/08/2024: $3\,500. \nSi lo prefieres\, puedes hacer un solo pago (con descuento) por $8\,500 MXN. \n¿Nos acompañas? Solo te tienes que registrar y\, en caso de ser seleccionado\, recibirás a tu número de WhatsApp el mensaje de aceptación y los mismos links de pago que encuentras en esta página. \nPor favor\, activa JavaScript en tu navegador para completar este formulario.Por favor\, activa JavaScript en tu navegador para completar este formulario.Nombre *Apellido *Correo electrónico *Cuenta de Instagram *WhatsApp *Sexo *MasculinoFemeninoEdad *Ciudad *Talla Camisa *SMLXLEnviar
URL:https://www.piedrasvivasrc.com/event/exodo-iii-te-llevare-al-desierto-oaxaca/
LOCATION:Yucatán
ATTACH;FMTTYPE=image/jpeg:https://www.piedrasvivasrc.com/wp-content/uploads/2025/08/WhatsApp-Image-2026-01-12-at-08.48.00.jpeg
END:VEVENT
END:VCALENDAR